BEGIN:VCALENDAR
VERSION:2.0
PRODID:-//S4RW - ECPv6.15.5//NONSGML v1.0//EN
CALSCALE:GREGORIAN
METHOD:PUBLISH
X-ORIGINAL-URL:https://s4rw.net
X-WR-CALDESC:Events for S4RW
REFRESH-INTERVAL;VALUE=DURATION:PT1H
X-Robots-Tag:noindex
X-PUBLISHED-TTL:PT1H
BEGIN:VTIMEZONE
TZID:UTC
BEGIN:STANDARD
TZOFFSETFROM:+0000
TZOFFSETTO:+0000
TZNAME:UTC
DTSTART:20210101T000000
END:STANDARD
END:VTIMEZONE
BEGIN:VEVENT
DTSTART;TZID=UTC:20210220T170000
DTEND;TZID=UTC:20210220T233000
DTSTAMP:20260421T130228
CREATED:20210207T182734Z
LAST-MODIFIED:20210207T182734Z
UID:8545-1613840400-1613863800@s4rw.net
SUMMARY:Europa Parts Chicken Meet with the B5 Freaks
DESCRIPTION:We will be meeting up with the B5 Freaks in Harrison\, NJ to cruise up to the Europa Parts Chicken Meet on Febuary 20th. Come join in on the fun!
URL:https://s4rw.net/event/europa-parts-chicken-meet-with-the-b5-freaks/
LOCATION:Albany Street Plaza Lot\, 123 Church Street\, New Brunswick\, NJ\, United States
END:VEVENT
BEGIN:VEVENT
DTSTART;TZID=UTC:20210213T100000
DTEND;TZID=UTC:20210213T180000
DTSTAMP:20260421T130228
CREATED:20210203T190035Z
LAST-MODIFIED:20210203T190035Z
UID:8458-1613210400-1613239200@s4rw.net
SUMMARY:I
DESCRIPTION:
URL:https://s4rw.net/event/i/
LOCATION:Shenandoah Speedway\, 301 Precision Road\, Shenandoah\, VA\, 22849\, United States
END:VEVENT
END:VCALENDAR